
BEGIN:VCALENDAR
VERSION:2.0
PRODID:-//La filandière - ECPv5.16.2.1//NONSGML v1.0//EN
CALSCALE:GREGORIAN
METHOD:PUBLISH
X-WR-CALNAME:La filandière
X-ORIGINAL-URL:https://www.chg-lafilandiere.fr
X-WR-CALDESC:évènements pour La filandière
BEGIN:VTIMEZONE
TZID:Europe/Paris
BEGIN:DAYLIGHT
TZOFFSETFROM:+0100
TZOFFSETTO:+0200
TZNAME:CEST
DTSTART:20190331T010000
END:DAYLIGHT
BEGIN:STANDARD
TZOFFSETFROM:+0200
TZOFFSETTO:+0100
TZNAME:CET
DTSTART:20191027T010000
END:STANDARD
END:VTIMEZONE
BEGIN:VEVENT
DTSTART;VALUE=DATE:20191207
DTEND;VALUE=DATE:20191208
DTSTAMP:20260421T231659
CREATED:20190429T090436Z
LAST-MODIFIED:20190429T090436Z
UID:1298-1575676800-1575763199@www.chg-lafilandiere.fr
SUMMARY:Marché de Noël
DESCRIPTION:
URL:https://www.chg-lafilandiere.fr/animations/marche-de-noel-5/
LOCATION:La Filandière
CATEGORIES:Divers
END:VEVENT
END:VCALENDAR